BEGIN:VCALENDAR
VERSION:2.0
PRODID:-//YourApp//EN
BEGIN:VEVENT
UID:69e9f7c1a7cac@yourdomain.com
DTSTAMP:20260423T104313Z
DTSTART:20260702T000000
DTEND:20260705T000000
SUMMARY:Oldtimer-Treffen in Saarlouis
DESCRIPTION:https://www.wrum.eu/agendaview?id=107 View event on Wrum
LOCATION:Kleinen Markt, Saarlouis, Germany
END:VEVENT
END:VCALENDAR