BEGIN:VCALENDAR
VERSION:2.0
PRODID:-//YourApp//EN
BEGIN:VEVENT
UID:69ea0812f0a53@yourdomain.com
DTSTAMP:20260423T115250Z
DTSTART:20260327T000000
DTEND:20260329T000000
SUMMARY:FORMULA 1 ARAMCO JAPANESE GRAND PRIX
DESCRIPTION:https://www.wrum.eu/agendaview?id=168 View event on Wrum
LOCATION:Suzuka circuit, Suzuka, Japan
END:VEVENT
END:VCALENDAR