BEGIN:VCALENDAR
VERSION:2.0
PRODID:-//YourApp//EN
BEGIN:VEVENT
UID:69e9f654b497c@yourdomain.com
DTSTAMP:20260423T103708Z
DTSTART:20260502T090000
DTEND:20260502T190000
SUMMARY:Cars&grill
DESCRIPTION:https://www.wrum.eu/agendaview?id=182 View event on Wrum
LOCATION:9A Rue de l Ã‰glise, Clemency, Luxembourg
END:VEVENT
END:VCALENDAR