BEGIN:VCALENDAR
VERSION:2.0
PRODID:-//YourApp//EN
BEGIN:VEVENT
UID:69e9f668276b3@yourdomain.com
DTSTAMP:20260423T103728Z
DTSTART:20260419T090000
DTEND:20260419T120000
SUMMARY:LOF Oldtimer breakfast
DESCRIPTION:https://www.wrum.eu/agendaview?id=235 View event on Wrum
LOCATION:REINERT sÃ rl 6, rue de ChÃ¢teau d Eau, Leudelange, Luxembourg
END:VEVENT
END:VCALENDAR