BEGIN:VCALENDAR
VERSION:2.0
PRODID:-//YourApp//EN
BEGIN:VEVENT
UID:69e9f69e964a2@yourdomain.com
DTSTAMP:20260423T103822Z
DTSTART:20260405T110000
DTEND:20260405T170000
SUMMARY:Car-Sonndig
DESCRIPTION:https://www.wrum.eu/agendaview?id=253 View event on Wrum
LOCATION:Place du MarchÃ©, Echternach, Luxembourg
END:VEVENT
END:VCALENDAR