BEGIN:VCALENDAR
VERSION:2.0
PRODID:-//YourApp//EN
BEGIN:VEVENT
UID:69e9f8145eaf7@yourdomain.com
DTSTAMP:20260423T104436Z
DTSTART:20260419T080000
DTEND:20260419T000000
SUMMARY:Gaume Rallye TÃ©lÃ©vie
DESCRIPTION:https://www.wrum.eu/agendaview?id=255 View event on Wrum
LOCATION:Salle multi-sport de Bellefontaine, Tintigny, Belgium
END:VEVENT
END:VCALENDAR