BEGIN:VCALENDAR
VERSION:2.0
PRODID:-//YourApp//EN
BEGIN:VEVENT
UID:69ea169604edc@yourdomain.com
DTSTAMP:20260423T125446Z
DTSTART:20260124T000000
DTEND:20260202T000000
SUMMARY:Autofestival 2026 Luxembourg
DESCRIPTION:https://www.wrum.eu/agendaview?id=256 View event on Wrum
LOCATION:, Luxembourg, Luxembourg
END:VEVENT
END:VCALENDAR