BEGIN:VCALENDAR
VERSION:2.0
PRODID:-//YourApp//EN
BEGIN:VEVENT
UID:69e9f69e8fa0a@yourdomain.com
DTSTAMP:20260423T103822Z
DTSTART:20260719T090000
DTEND:20260719T120000
SUMMARY:LOF Oldtimer Breakfast
DESCRIPTION:https://www.wrum.eu/agendaview?id=71 View event on Wrum
LOCATION:BK-Concept â€“ 6, rue du Commerce, Foetz, Luxembourg
END:VEVENT
END:VCALENDAR